BEGIN:VCALENDAR
VERSION:2.0
PRODID:-//Josias River Farm - ECPv6.15.13//NONSGML v1.0//EN
CALSCALE:GREGORIAN
METHOD:PUBLISH
X-WR-CALNAME:Josias River Farm
X-ORIGINAL-URL:https://josiasriverfarm.com
X-WR-CALDESC:Events for Josias River Farm
REFRESH-INTERVAL;VALUE=DURATION:PT1H
X-Robots-Tag:noindex
X-PUBLISHED-TTL:PT1H
BEGIN:VTIMEZONE
TZID:UTC
BEGIN:STANDARD
TZOFFSETFROM:+0000
TZOFFSETTO:+0000
TZNAME:UTC
DTSTART:20240101T000000
END:STANDARD
END:VTIMEZONE
BEGIN:VEVENT
DTSTART;TZID=UTC:20251020T080000
DTEND;TZID=UTC:20251231T170000
DTSTAMP:20260423T212400
CREATED:20240114T145600Z
LAST-MODIFIED:20240114T145600Z
UID:1371-1760947200-1767200400@josiasriverfarm.com
SUMMARY:Not Available for Booking
DESCRIPTION:
URL:https://josiasriverfarm.com/calendar/not-available-for-booking-29/
CATEGORIES:Not Available For Booking
END:VEVENT
END:VCALENDAR