BEGIN:VCALENDAR
VERSION:2.0
PRODID:-//Josias River Farm - ECPv6.15.13//NONSGML v1.0//EN
CALSCALE:GREGORIAN
METHOD:PUBLISH
X-WR-CALNAME:Josias River Farm
X-ORIGINAL-URL:https://josiasriverfarm.com
X-WR-CALDESC:Events for Josias River Farm
REFRESH-INTERVAL;VALUE=DURATION:PT1H
X-Robots-Tag:noindex
X-PUBLISHED-TTL:PT1H
BEGIN:VTIMEZONE
TZID:UTC
BEGIN:STANDARD
TZOFFSETFROM:+0000
TZOFFSETTO:+0000
TZNAME:UTC
DTSTART:20250101T000000
END:STANDARD
END:VTIMEZONE
BEGIN:VEVENT
DTSTART;TZID=UTC:20260613T080000
DTEND;TZID=UTC:20260615T170000
DTSTAMP:20260423T195540
CREATED:20250625T120322Z
LAST-MODIFIED:20250625T120322Z
UID:1496-1781337600-1781542800@josiasriverfarm.com
SUMMARY:Booked for Wedding
DESCRIPTION:
URL:https://josiasriverfarm.com/calendar/booked-for-wedding-18/
CATEGORIES:Booked for Wedding
END:VEVENT
END:VCALENDAR