BEGIN:VCALENDAR
VERSION:2.0
PRODID:-//Josias River Farm - ECPv6.15.13//NONSGML v1.0//EN
CALSCALE:GREGORIAN
METHOD:PUBLISH
X-WR-CALNAME:Josias River Farm
X-ORIGINAL-URL:https://josiasriverfarm.com
X-WR-CALDESC:Events for Josias River Farm
REFRESH-INTERVAL;VALUE=DURATION:PT1H
X-Robots-Tag:noindex
X-PUBLISHED-TTL:PT1H
BEGIN:VTIMEZONE
TZID:UTC
BEGIN:STANDARD
TZOFFSETFROM:+0000
TZOFFSETTO:+0000
TZNAME:UTC
DTSTART:20230101T000000
END:STANDARD
END:VTIMEZONE
BEGIN:VEVENT
DTSTART;TZID=UTC:20251020T080000
DTEND;TZID=UTC:20251231T170000
DTSTAMP:20260423T195738
CREATED:20240114T145600Z
LAST-MODIFIED:20240114T145600Z
UID:1371-1760947200-1767200400@josiasriverfarm.com
SUMMARY:Not Available for Booking
DESCRIPTION:
URL:https://josiasriverfarm.com/calendar/not-available-for-booking-29/
CATEGORIES:Not Available For Booking
END:VEVENT
BEGIN:VEVENT
DTSTART;TZID=UTC:20251017T080000
DTEND;TZID=UTC:20251017T170000
DTSTAMP:20260423T195738
CREATED:20240817T111547Z
LAST-MODIFIED:20240817T111547Z
UID:1455-1760688000-1760720400@josiasriverfarm.com
SUMMARY:Available for Intimate Wedding of 50 or Fewer Guests
DESCRIPTION:
URL:https://josiasriverfarm.com/calendar/available-for-intimate-wedding-of-50-or-fewer-guests/
CATEGORIES:Available for Intimate Weddings for Less Than 50 Guests
END:VEVENT
BEGIN:VEVENT
DTSTART;TZID=UTC:20251010T080000
DTEND;TZID=UTC:20251012T170000
DTSTAMP:20260423T195738
CREATED:20230828T113641Z
LAST-MODIFIED:20230828T113840Z
UID:1349-1760083200-1760288400@josiasriverfarm.com
SUMMARY:Not Available for Booking
DESCRIPTION:
URL:https://josiasriverfarm.com/calendar/not-available-for-booking-27/
CATEGORIES:Not Available For Booking
END:VEVENT
BEGIN:VEVENT
DTSTART;TZID=UTC:20251003T080000
DTEND;TZID=UTC:20251005T170000
DTSTAMP:20260423T195738
CREATED:20240306T114819Z
LAST-MODIFIED:20240306T114917Z
UID:1391-1759478400-1759683600@josiasriverfarm.com
SUMMARY:Booked for Wedding
DESCRIPTION:
URL:https://josiasriverfarm.com/calendar/booked-for-wedding-9/
CATEGORIES:Booked for Wedding
END:VEVENT
BEGIN:VEVENT
DTSTART;TZID=UTC:20250926T080000
DTEND;TZID=UTC:20250928T170000
DTSTAMP:20260423T195738
CREATED:20240327T153101Z
LAST-MODIFIED:20240327T153101Z
UID:1397-1758873600-1759078800@josiasriverfarm.com
SUMMARY:Wedding Booked
DESCRIPTION:
URL:https://josiasriverfarm.com/calendar/wedding-booked-53/
CATEGORIES:Booked for Wedding
END:VEVENT
BEGIN:VEVENT
DTSTART;TZID=UTC:20250919T080000
DTEND;TZID=UTC:20250921T170000
DTSTAMP:20260423T195738
CREATED:20240306T115208Z
LAST-MODIFIED:20240306T115226Z
UID:1393-1758268800-1758474000@josiasriverfarm.com
SUMMARY:Booked for Wedding
DESCRIPTION:
URL:https://josiasriverfarm.com/calendar/booked-for-wedding-10/
CATEGORIES:Booked for Wedding
END:VEVENT
BEGIN:VEVENT
DTSTART;VALUE=DATE:20250913
DTEND;VALUE=DATE:20250914
DTSTAMP:20260423T195738
CREATED:20240707T104336Z
LAST-MODIFIED:20240707T104352Z
UID:1412-1757721600-1757807999@josiasriverfarm.com
SUMMARY:Not Available for Booking
DESCRIPTION:
URL:https://josiasriverfarm.com/calendar/not-available-for-booking-31/
CATEGORIES:Not Available For Booking
END:VEVENT
BEGIN:VEVENT
DTSTART;TZID=UTC:20250912T080000
DTEND;TZID=UTC:20250912T170000
DTSTAMP:20260423T195738
CREATED:20250107T140123Z
LAST-MODIFIED:20250107T140123Z
UID:1473-1757664000-1757696400@josiasriverfarm.com
SUMMARY:Wedding Booked
DESCRIPTION:
URL:https://josiasriverfarm.com/calendar/wedding-booked-61/
CATEGORIES:Booked for Wedding
END:VEVENT
BEGIN:VEVENT
DTSTART;TZID=UTC:20250829T080000
DTEND;TZID=UTC:20250831T170000
DTSTAMP:20260423T195738
CREATED:20240807T114632Z
LAST-MODIFIED:20240807T114641Z
UID:1426-1756454400-1756659600@josiasriverfarm.com
SUMMARY:Wedding Booked
DESCRIPTION:
URL:https://josiasriverfarm.com/calendar/wedding-booked-58/
END:VEVENT
BEGIN:VEVENT
DTSTART;TZID=UTC:20250822T080000
DTEND;TZID=UTC:20250824T170000
DTSTAMP:20260423T195738
CREATED:20240817T105125Z
LAST-MODIFIED:20240817T105254Z
UID:1436-1755849600-1756054800@josiasriverfarm.com
SUMMARY:Booked for Wedding
DESCRIPTION:
URL:https://josiasriverfarm.com/calendar/booked-for-wedding-13/
CATEGORIES:Booked for Wedding
END:VEVENT
BEGIN:VEVENT
DTSTART;TZID=UTC:20250815T080000
DTEND;TZID=UTC:20250816T170000
DTSTAMP:20260423T195738
CREATED:20240807T113812Z
LAST-MODIFIED:20240807T113827Z
UID:1424-1755244800-1755363600@josiasriverfarm.com
SUMMARY:Wedding Booked
DESCRIPTION:
URL:https://josiasriverfarm.com/calendar/wedding-booked-57/
CATEGORIES:Booked for Wedding
END:VEVENT
BEGIN:VEVENT
DTSTART;TZID=UTC:20250808T080000
DTEND;TZID=UTC:20250810T170000
DTSTAMP:20260423T195738
CREATED:20240504T111740Z
LAST-MODIFIED:20240504T111828Z
UID:1402-1754640000-1754845200@josiasriverfarm.com
SUMMARY:Wedding Booked
DESCRIPTION:
URL:https://josiasriverfarm.com/calendar/wedding-booked-54/
CATEGORIES:Booked for Wedding
END:VEVENT
BEGIN:VEVENT
DTSTART;TZID=UTC:20250802T080000
DTEND;TZID=UTC:20250803T170000
DTSTAMP:20260423T195738
CREATED:20240817T110933Z
LAST-MODIFIED:20240817T111029Z
UID:1447-1754121600-1754240400@josiasriverfarm.com
SUMMARY:Not Available for Booking
DESCRIPTION:
URL:https://josiasriverfarm.com/calendar/not-available-for-booking-32/
CATEGORIES:Not Available For Booking
END:VEVENT
BEGIN:VEVENT
DTSTART;TZID=UTC:20250726T080000
DTEND;TZID=UTC:20250727T170000
DTSTAMP:20260423T195738
CREATED:20240817T111239Z
LAST-MODIFIED:20240817T111239Z
UID:1453-1753516800-1753635600@josiasriverfarm.com
SUMMARY:Not Available For Booking
DESCRIPTION:
URL:https://josiasriverfarm.com/calendar/not-available-for-booking-34/
CATEGORIES:Not Available For Booking
END:VEVENT
BEGIN:VEVENT
DTSTART;TZID=UTC:20250719T080000
DTEND;TZID=UTC:20250720T170000
DTSTAMP:20260423T195738
CREATED:20240817T111145Z
LAST-MODIFIED:20240817T111145Z
UID:1449-1752912000-1753030800@josiasriverfarm.com
SUMMARY:Not Available For Booking
DESCRIPTION:
URL:https://josiasriverfarm.com/calendar/not-available-for-booking-33/
CATEGORIES:Not Available
END:VEVENT
BEGIN:VEVENT
DTSTART;TZID=UTC:20250718T080000
DTEND;TZID=UTC:20250718T170000
DTSTAMP:20260423T195738
CREATED:20250113T114952Z
LAST-MODIFIED:20250113T114952Z
UID:1477-1752825600-1752858000@josiasriverfarm.com
SUMMARY:Wedding Booked
DESCRIPTION:
URL:https://josiasriverfarm.com/calendar/wedding-booked-62/
END:VEVENT
BEGIN:VEVENT
DTSTART;TZID=UTC:20250711T080000
DTEND;TZID=UTC:20250713T170000
DTSTAMP:20260423T195738
CREATED:20240504T112034Z
LAST-MODIFIED:20240504T112034Z
UID:1404-1752220800-1752426000@josiasriverfarm.com
SUMMARY:Wedding Booked
DESCRIPTION:
URL:https://josiasriverfarm.com/calendar/wedding-booked-55/
CATEGORIES:Booked for Wedding
END:VEVENT
BEGIN:VEVENT
DTSTART;TZID=UTC:20250704T080000
DTEND;TZID=UTC:20250705T170000
DTSTAMP:20260423T195738
CREATED:20240817T110439Z
LAST-MODIFIED:20240817T110710Z
UID:1444-1751616000-1751734800@josiasriverfarm.com
SUMMARY:Not Available For Booking
DESCRIPTION:
URL:https://josiasriverfarm.com/calendar/available-for-an-intimate-wedding-with-less-than-50-guests/
CATEGORIES:Not Available
END:VEVENT
BEGIN:VEVENT
DTSTART;TZID=UTC:20250627T080000
DTEND;TZID=UTC:20250629T170000
DTSTAMP:20260423T195738
CREATED:20240807T124558Z
LAST-MODIFIED:20240807T124611Z
UID:1433-1751011200-1751216400@josiasriverfarm.com
SUMMARY:Wedding Booked
DESCRIPTION:
URL:https://josiasriverfarm.com/calendar/wedding-booked-59/
CATEGORIES:Booked for Wedding
END:VEVENT
BEGIN:VEVENT
DTSTART;VALUE=DATE:20250620
DTEND;VALUE=DATE:20250623
DTSTAMP:20260423T195738
CREATED:20240707T104934Z
LAST-MODIFIED:20240707T105413Z
UID:1416-1750377600-1750636799@josiasriverfarm.com
SUMMARY:Booked for Wedding
DESCRIPTION:
URL:https://josiasriverfarm.com/calendar/booked-for-wedding-11/
CATEGORIES:Booked for Wedding
END:VEVENT
BEGIN:VEVENT
DTSTART;TZID=UTC:20250613T080000
DTEND;TZID=UTC:20250615T170000
DTSTAMP:20260423T195738
CREATED:20240817T105442Z
LAST-MODIFIED:20240817T105452Z
UID:1438-1749801600-1750006800@josiasriverfarm.com
SUMMARY:Booked for Wedding
DESCRIPTION:
URL:https://josiasriverfarm.com/calendar/booked-for-wedding-14/
CATEGORIES:Booked for Wedding
END:VEVENT
BEGIN:VEVENT
DTSTART;VALUE=DATE:20250606
DTEND;VALUE=DATE:20250607
DTSTAMP:20260423T195738
CREATED:20240509T093639Z
LAST-MODIFIED:20240509T093639Z
UID:1407-1749168000-1749254399@josiasriverfarm.com
SUMMARY:Wedding Booked
DESCRIPTION:
URL:https://josiasriverfarm.com/calendar/wedding-booked-56/
CATEGORIES:Booked for Wedding
END:VEVENT
BEGIN:VEVENT
DTSTART;TZID=UTC:20250529T080000
DTEND;TZID=UTC:20250531T170000
DTSTAMP:20260423T195738
CREATED:20240114T145115Z
LAST-MODIFIED:20240807T120746Z
UID:1367-1748505600-1748710800@josiasriverfarm.com
SUMMARY:Booked for Wedding
DESCRIPTION:
URL:https://josiasriverfarm.com/calendar/booked-for-wedding-8/
CATEGORIES:Available,Booked for Wedding
END:VEVENT
BEGIN:VEVENT
DTSTART;TZID=UTC:20250524T080000
DTEND;TZID=UTC:20250525T170000
DTSTAMP:20260423T195738
CREATED:20240817T105755Z
LAST-MODIFIED:20240817T110038Z
UID:1440-1748073600-1748192400@josiasriverfarm.com
SUMMARY:Not Available For Booking
DESCRIPTION:
URL:https://josiasriverfarm.com/calendar/available-for-intimate-wedding-of-50-fewer-than-50-guests/
CATEGORIES:Not Available For Booking
END:VEVENT
BEGIN:VEVENT
DTSTART;TZID=UTC:20250523T080000
DTEND;TZID=UTC:20250523T170000
DTSTAMP:20260423T195738
CREATED:20230828T113515Z
LAST-MODIFIED:20240817T110209Z
UID:1347-1747987200-1748019600@josiasriverfarm.com
SUMMARY:Available for Booking
DESCRIPTION:
URL:https://josiasriverfarm.com/calendar/not-available-for-booking-26/
CATEGORIES:Available,Not Available For Booking
END:VEVENT
BEGIN:VEVENT
DTSTART;TZID=UTC:20250517T080000
DTEND;TZID=UTC:20250518T170000
DTSTAMP:20260423T195738
CREATED:20240217T175716Z
LAST-MODIFIED:20240807T121009Z
UID:1387-1747468800-1747587600@josiasriverfarm.com
SUMMARY:Available for Wedding
DESCRIPTION:
URL:https://josiasriverfarm.com/calendar/not-available-for-booking-30/
CATEGORIES:Available,Not Available For Booking
END:VEVENT
BEGIN:VEVENT
DTSTART;TZID=UTC:20250101T080000
DTEND;TZID=UTC:20250511T170000
DTSTAMP:20260423T195738
CREATED:20240114T145350Z
LAST-MODIFIED:20240114T145350Z
UID:1369-1735718400-1746982800@josiasriverfarm.com
SUMMARY:Not Available for Booking
DESCRIPTION:
URL:https://josiasriverfarm.com/calendar/not-available-for-booking-28/
CATEGORIES:Not Available For Booking
END:VEVENT
BEGIN:VEVENT
DTSTART;TZID=UTC:20241026T080000
DTEND;TZID=UTC:20241028T170000
DTSTAMP:20260423T195738
CREATED:20221024T114034Z
LAST-MODIFIED:20221024T114512Z
UID:1242-1729929600-1730134800@josiasriverfarm.com
SUMMARY:Wedding Booked
DESCRIPTION:
URL:https://josiasriverfarm.com/calendar/wedding-booked-40/
CATEGORIES:Booked for Wedding
END:VEVENT
BEGIN:VEVENT
DTSTART;TZID=UTC:20241024T080000
DTEND;TZID=UTC:20241024T170000
DTSTAMP:20260423T195738
CREATED:20230825T120833Z
LAST-MODIFIED:20230825T121129Z
UID:1322-1729756800-1729789200@josiasriverfarm.com
SUMMARY:Private Party
DESCRIPTION:
URL:https://josiasriverfarm.com/calendar/not-available-8/
CATEGORIES:Private Party
END:VEVENT
BEGIN:VEVENT
DTSTART;TZID=UTC:20241018T080000
DTEND;TZID=UTC:20241020T170000
DTSTAMP:20260423T195738
CREATED:20230825T121733Z
LAST-MODIFIED:20230825T121746Z
UID:1329-1729238400-1729443600@josiasriverfarm.com
SUMMARY:Not Available
DESCRIPTION:
URL:https://josiasriverfarm.com/calendar/not-available-9/
CATEGORIES:Not Available
END:VEVENT
END:VCALENDAR