BEGIN:VCALENDAR
VERSION:2.0
PRODID:-//Josias River Farm - ECPv6.15.13//NONSGML v1.0//EN
CALSCALE:GREGORIAN
METHOD:PUBLISH
X-ORIGINAL-URL:https://josiasriverfarm.com
X-WR-CALDESC:Events for Josias River Farm
REFRESH-INTERVAL;VALUE=DURATION:PT1H
X-Robots-Tag:noindex
X-PUBLISHED-TTL:PT1H
BEGIN:VTIMEZONE
TZID:UTC
BEGIN:STANDARD
TZOFFSETFROM:+0000
TZOFFSETTO:+0000
TZNAME:UTC
DTSTART:20250101T000000
END:STANDARD
END:VTIMEZONE
BEGIN:VEVENT
DTSTART;TZID=UTC:20260529T080000
DTEND;TZID=UTC:20260531T170000
DTSTAMP:20260423T181209
CREATED:20250714T161950Z
LAST-MODIFIED:20250714T161950Z
UID:1501-1780041600-1780246800@josiasriverfarm.com
SUMMARY:Wedding Booked
DESCRIPTION:
URL:https://josiasriverfarm.com/calendar/wedding-booked-63/
CATEGORIES:Booked for Wedding
END:VEVENT
BEGIN:VEVENT
DTSTART;TZID=UTC:20260613T080000
DTEND;TZID=UTC:20260615T170000
DTSTAMP:20260423T181209
CREATED:20250625T120322Z
LAST-MODIFIED:20250625T120322Z
UID:1496-1781337600-1781542800@josiasriverfarm.com
SUMMARY:Booked for Wedding
DESCRIPTION:
URL:https://josiasriverfarm.com/calendar/booked-for-wedding-18/
CATEGORIES:Booked for Wedding
END:VEVENT
BEGIN:VEVENT
DTSTART;TZID=UTC:20260626T080000
DTEND;TZID=UTC:20260628T170000
DTSTAMP:20260423T181209
CREATED:20250516T105725Z
LAST-MODIFIED:20250516T105725Z
UID:1490-1782460800-1782666000@josiasriverfarm.com
SUMMARY:Wedding For Booked
DESCRIPTION:
URL:https://josiasriverfarm.com/calendar/wedding-for-booked/
CATEGORIES:Booked for Wedding
END:VEVENT
BEGIN:VEVENT
DTSTART;TZID=UTC:20260807T080000
DTEND;TZID=UTC:20260809T170000
DTSTAMP:20260423T181209
CREATED:20250909T104107Z
LAST-MODIFIED:20250909T104107Z
UID:1513-1786089600-1786294800@josiasriverfarm.com
SUMMARY:Booked for Wedding
DESCRIPTION:
URL:https://josiasriverfarm.com/calendar/booked-for-wedding-20/
CATEGORIES:Booked for Wedding
END:VEVENT
BEGIN:VEVENT
DTSTART;TZID=UTC:20260814T080000
DTEND;TZID=UTC:20260816T170000
DTSTAMP:20260423T181209
CREATED:20250928T165217Z
LAST-MODIFIED:20250928T165217Z
UID:1520-1786694400-1786899600@josiasriverfarm.com
SUMMARY:Wedding Booked
DESCRIPTION:
URL:https://josiasriverfarm.com/calendar/wedding-booked-65/
END:VEVENT
BEGIN:VEVENT
DTSTART;TZID=UTC:20260821T080000
DTEND;TZID=UTC:20260823T170000
DTSTAMP:20260423T181209
CREATED:20250728T182644Z
LAST-MODIFIED:20250728T182644Z
UID:1504-1787299200-1787504400@josiasriverfarm.com
SUMMARY:Wedding Booked
DESCRIPTION:
URL:https://josiasriverfarm.com/calendar/wedding-booked-64/
CATEGORIES:Booked for Wedding
END:VEVENT
BEGIN:VEVENT
DTSTART;TZID=UTC:20260828T080000
DTEND;TZID=UTC:20260830T170000
DTSTAMP:20260423T181209
CREATED:20240915T211453Z
LAST-MODIFIED:20240915T211453Z
UID:1460-1787904000-1788109200@josiasriverfarm.com
SUMMARY:Wedding Booked
DESCRIPTION:
URL:https://josiasriverfarm.com/calendar/wedding-booked-60/
CATEGORIES:Booked for Wedding
END:VEVENT
BEGIN:VEVENT
DTSTART;VALUE=DATE:20260904
DTEND;VALUE=DATE:20260905
DTSTAMP:20260423T181209
CREATED:20250625T120037Z
LAST-MODIFIED:20250625T120037Z
UID:1494-1788480000-1788566399@josiasriverfarm.com
SUMMARY:Booked for Wedding
DESCRIPTION:
URL:https://josiasriverfarm.com/calendar/booked-for-wedding-12/
CATEGORIES:Booked for Wedding
END:VEVENT
BEGIN:VEVENT
DTSTART;TZID=UTC:20260911T080000
DTEND;TZID=UTC:20260913T170000
DTSTAMP:20260423T181209
CREATED:20250412T122945Z
LAST-MODIFIED:20250412T122945Z
UID:1483-1789113600-1789318800@josiasriverfarm.com
SUMMARY:Booked for Wedding
DESCRIPTION:
URL:https://josiasriverfarm.com/calendar/booked-for-wedding-16/
CATEGORIES:Booked for Wedding
END:VEVENT
BEGIN:VEVENT
DTSTART;TZID=UTC:20260919T080000
DTEND;TZID=UTC:20260920T170000
DTSTAMP:20260423T181209
CREATED:20240817T111833Z
LAST-MODIFIED:20250818T184930Z
UID:1457-1789804800-1789923600@josiasriverfarm.com
SUMMARY:Booked for Wedding
DESCRIPTION:
URL:https://josiasriverfarm.com/calendar/not-available-for-booking-35/
CATEGORIES:Booked for Wedding
END:VEVENT
BEGIN:VEVENT
DTSTART;TZID=UTC:20260925T080000
DTEND;TZID=UTC:20260927T170000
DTSTAMP:20260423T181209
CREATED:20250504T135411Z
LAST-MODIFIED:20250504T135411Z
UID:1487-1790323200-1790528400@josiasriverfarm.com
SUMMARY:Booked for Wedding
DESCRIPTION:
URL:https://josiasriverfarm.com/calendar/booked-for-wedding-17/
CATEGORIES:Booked for Wedding
END:VEVENT
BEGIN:VEVENT
DTSTART;TZID=UTC:20261002T080000
DTEND;TZID=UTC:20261004T170000
DTSTAMP:20260423T181209
CREATED:20250818T184738Z
LAST-MODIFIED:20250818T184738Z
UID:1507-1790928000-1791133200@josiasriverfarm.com
SUMMARY:Booked for Wedding
DESCRIPTION:
URL:https://josiasriverfarm.com/calendar/booked-for-wedding-19/
CATEGORIES:Booked for Wedding
END:VEVENT
BEGIN:VEVENT
DTSTART;TZID=UTC:20261009T080000
DTEND;TZID=UTC:20261011T170000
DTSTAMP:20260423T181209
CREATED:20241216T205243Z
LAST-MODIFIED:20241216T205257Z
UID:1470-1791532800-1791738000@josiasriverfarm.com
SUMMARY:Booked for Wedding
DESCRIPTION:
URL:https://josiasriverfarm.com/calendar/booked-for-wedding-15/
CATEGORIES:Booked for Wedding
END:VEVENT
BEGIN:VEVENT
DTSTART;TZID=UTC:20261016T080000
DTEND;TZID=UTC:20261018T170000
DTSTAMP:20260423T181209
CREATED:20250928T165307Z
LAST-MODIFIED:20250928T165307Z
UID:1522-1792137600-1792342800@josiasriverfarm.com
SUMMARY:Wedding Booked
DESCRIPTION:
URL:https://josiasriverfarm.com/calendar/wedding-booked-66/
END:VEVENT
BEGIN:VEVENT
DTSTART;TZID=UTC:20270820T080000
DTEND;TZID=UTC:20270820T170000
DTSTAMP:20260423T181209
CREATED:20251107T164639Z
LAST-MODIFIED:20251107T164639Z
UID:1528-1818748800-1818781200@josiasriverfarm.com
SUMMARY:Wedding Booked
DESCRIPTION:
URL:https://josiasriverfarm.com/calendar/wedding-booked-68/
END:VEVENT
BEGIN:VEVENT
DTSTART;TZID=UTC:20270827T080000
DTEND;TZID=UTC:20270829T170000
DTSTAMP:20260423T181209
CREATED:20251107T164519Z
LAST-MODIFIED:20251107T164519Z
UID:1526-1819353600-1819558800@josiasriverfarm.com
SUMMARY:Wedding Booked
DESCRIPTION:
URL:https://josiasriverfarm.com/calendar/wedding-booked-67/
END:VEVENT
BEGIN:VEVENT
DTSTART;TZID=UTC:20270924T080000
DTEND;TZID=UTC:20270926T170000
DTSTAMP:20260423T181209
CREATED:20250921T115019Z
LAST-MODIFIED:20250921T115019Z
UID:1516-1821772800-1821978000@josiasriverfarm.com
SUMMARY:Booked for Wedding
DESCRIPTION:
URL:https://josiasriverfarm.com/calendar/booked-for-wedding-21/
END:VEVENT
BEGIN:VEVENT
DTSTART;TZID=UTC:20271008T080000
DTEND;TZID=UTC:20271010T170000
DTSTAMP:20260423T181209
CREATED:20250921T115214Z
LAST-MODIFIED:20250921T115214Z
UID:1518-1822982400-1823187600@josiasriverfarm.com
SUMMARY:Not Available for Booking
DESCRIPTION:
URL:https://josiasriverfarm.com/calendar/not-available-for-booking-36/
END:VEVENT
END:VCALENDAR