BEGIN:VCALENDAR
VERSION:2.0
PRODID:-//Josias River Farm - ECPv6.15.13//NONSGML v1.0//EN
CALSCALE:GREGORIAN
METHOD:PUBLISH
X-WR-CALNAME:Josias River Farm
X-ORIGINAL-URL:https://josiasriverfarm.com
X-WR-CALDESC:Events for Josias River Farm
REFRESH-INTERVAL;VALUE=DURATION:PT1H
X-Robots-Tag:noindex
X-PUBLISHED-TTL:PT1H
BEGIN:VTIMEZONE
TZID:UTC
BEGIN:STANDARD
TZOFFSETFROM:+0000
TZOFFSETTO:+0000
TZNAME:UTC
DTSTART:20200101T000000
END:STANDARD
END:VTIMEZONE
BEGIN:VEVENT
DTSTART;TZID=UTC:20220729T080000
DTEND;TZID=UTC:20220731T170000
DTSTAMP:20260424T234753
CREATED:20210503T145205Z
LAST-MODIFIED:20210503T145205Z
UID:1099-1659081600-1659286800@josiasriverfarm.com
SUMMARY:Wedding Booked
DESCRIPTION:
URL:https://josiasriverfarm.com/calendar/wedding-booked-29/
CATEGORIES:Booked for Wedding
END:VEVENT
BEGIN:VEVENT
DTSTART;TZID=UTC:20220723T080000
DTEND;TZID=UTC:20220724T170000
DTSTAMP:20260424T234753
CREATED:20210827T210647Z
LAST-MODIFIED:20210827T210647Z
UID:1140-1658563200-1658682000@josiasriverfarm.com
SUMMARY:Not Available for Booking
DESCRIPTION:
URL:https://josiasriverfarm.com/calendar/not-available-for-booking-19/
CATEGORIES:Not Available For Booking
END:VEVENT
BEGIN:VEVENT
DTSTART;VALUE=DATE:20220722
DTEND;VALUE=DATE:20220723
DTSTAMP:20260424T234753
CREATED:20210827T210921Z
LAST-MODIFIED:20210827T211025Z
UID:1142-1658448000-1658534399@josiasriverfarm.com
SUMMARY:Available for Intimate Wedding of Less Than 50 Guests
DESCRIPTION:
URL:https://josiasriverfarm.com/calendar/available-for-intimate-wedding-of-less-than-20-guests/
CATEGORIES:Available for Intimate Weddings for Less Than 50 Guests
END:VEVENT
BEGIN:VEVENT
DTSTART;TZID=UTC:20220716T080000
DTEND;TZID=UTC:20220717T170000
DTSTAMP:20260424T234753
CREATED:20210827T210541Z
LAST-MODIFIED:20210827T210541Z
UID:1138-1657958400-1658077200@josiasriverfarm.com
SUMMARY:Not Available
DESCRIPTION:
URL:https://josiasriverfarm.com/calendar/not-available-4/
CATEGORIES:Not Available For Booking
END:VEVENT
BEGIN:VEVENT
DTSTART;TZID=UTC:20220715T080000
DTEND;TZID=UTC:20220715T170000
DTSTAMP:20260424T234753
CREATED:20210827T211846Z
LAST-MODIFIED:20210827T211846Z
UID:1147-1657872000-1657904400@josiasriverfarm.com
SUMMARY:Available for Intimate Wedding of Less Than 50 Guests
DESCRIPTION:
URL:https://josiasriverfarm.com/calendar/available-for-intimate-wedding-of-less-than-50-guests/
CATEGORIES:Available for Intimate Weddings for Less Than 50 Guests
END:VEVENT
BEGIN:VEVENT
DTSTART;VALUE=DATE:20220709
DTEND;VALUE=DATE:20220711
DTSTAMP:20260424T234753
CREATED:20210827T193909Z
LAST-MODIFIED:20210827T203517Z
UID:1128-1657324800-1657497599@josiasriverfarm.com
SUMMARY:Not Available
DESCRIPTION:
URL:https://josiasriverfarm.com/calendar/not-available-2/
CATEGORIES:Not Available For Booking
END:VEVENT
BEGIN:VEVENT
DTSTART;TZID=UTC:20220708T080000
DTEND;TZID=UTC:20220708T170000
DTSTAMP:20260424T234753
CREATED:20210827T211359Z
LAST-MODIFIED:20210827T211359Z
UID:1145-1657267200-1657299600@josiasriverfarm.com
SUMMARY:Available for Intimate Wedding With Less Than 50 Guests
DESCRIPTION:
URL:https://josiasriverfarm.com/calendar/available-for-intimate-wedding-with-less-than-50-guests-2/
CATEGORIES:Available for Intimate Weddings for Less Than 50 Guests
END:VEVENT
BEGIN:VEVENT
DTSTART;TZID=UTC:20220701T080000
DTEND;TZID=UTC:20220703T170000
DTSTAMP:20260424T234753
CREATED:20201004T184746Z
LAST-MODIFIED:20201004T184746Z
UID:1004-1656662400-1656867600@josiasriverfarm.com
SUMMARY:Not Available for Booking
DESCRIPTION:
URL:https://josiasriverfarm.com/calendar/not-available-for-booking-15/
CATEGORIES:Not Available For Booking
END:VEVENT
BEGIN:VEVENT
DTSTART;TZID=UTC:20220626T080000
DTEND;TZID=UTC:20220626T170000
DTSTAMP:20260424T234753
CREATED:20210130T145212Z
LAST-MODIFIED:20210130T145212Z
UID:1066-1656230400-1656262800@josiasriverfarm.com
SUMMARY:Wedding Booked
DESCRIPTION:
URL:https://josiasriverfarm.com/calendar/wedding-booked-22/
CATEGORIES:Booked for Wedding
END:VEVENT
BEGIN:VEVENT
DTSTART;TZID=UTC:20220625T080000
DTEND;TZID=UTC:20220625T170000
DTSTAMP:20260424T234753
CREATED:20210503T145831Z
LAST-MODIFIED:20210503T150044Z
UID:1105-1656144000-1656176400@josiasriverfarm.com
SUMMARY:Not Available For Booking
DESCRIPTION:
URL:https://josiasriverfarm.com/calendar/not-available-for-booking-17/
CATEGORIES:Not Available For Booking
END:VEVENT
BEGIN:VEVENT
DTSTART;TZID=UTC:20220624T080000
DTEND;TZID=UTC:20220624T170000
DTSTAMP:20260424T234753
CREATED:20210130T144921Z
LAST-MODIFIED:20210130T145032Z
UID:1062-1656057600-1656090000@josiasriverfarm.com
SUMMARY:Available for Intimate Wedding With Less Than 50 Guests
DESCRIPTION:
URL:https://josiasriverfarm.com/calendar/wedding-booked-21/
CATEGORIES:Available for Intimate Weddings for Less Than 50 Guests,Booked for Wedding
END:VEVENT
BEGIN:VEVENT
DTSTART;TZID=UTC:20220617T080000
DTEND;TZID=UTC:20220619T170000
DTSTAMP:20260424T234753
CREATED:20201004T184526Z
LAST-MODIFIED:20201004T184526Z
UID:1002-1655452800-1655658000@josiasriverfarm.com
SUMMARY:Booked Wedding
DESCRIPTION:
URL:https://josiasriverfarm.com/calendar/booked-wedding-2/
CATEGORIES:Booked for Wedding
END:VEVENT
BEGIN:VEVENT
DTSTART;TZID=UTC:20220610T080000
DTEND;TZID=UTC:20220612T170000
DTSTAMP:20260424T234753
CREATED:20210430T121340Z
LAST-MODIFIED:20210430T121921Z
UID:1097-1654848000-1655053200@josiasriverfarm.com
SUMMARY:Wedding Booked
DESCRIPTION:
URL:https://josiasriverfarm.com/calendar/wedding-booked-28/
CATEGORIES:Booked for Wedding
END:VEVENT
BEGIN:VEVENT
DTSTART;VALUE=DATE:20220604
DTEND;VALUE=DATE:20220606
DTSTAMP:20260424T234753
CREATED:20210827T204043Z
LAST-MODIFIED:20210827T204239Z
UID:1133-1654300800-1654473599@josiasriverfarm.com
SUMMARY:Not Available
DESCRIPTION:
URL:https://josiasriverfarm.com/calendar/not-available-3/
CATEGORIES:Not Available For Booking
END:VEVENT
BEGIN:VEVENT
DTSTART;VALUE=DATE:20220603
DTEND;VALUE=DATE:20220604
DTSTAMP:20260424T234753
CREATED:20210914T105231Z
LAST-MODIFIED:20210914T105231Z
UID:1151-1654214400-1654300799@josiasriverfarm.com
SUMMARY:Wedding Booked
DESCRIPTION:
URL:https://josiasriverfarm.com/calendar/wedding-booked-30/
CATEGORIES:Booked for Wedding
END:VEVENT
BEGIN:VEVENT
DTSTART;TZID=UTC:20220528T080000
DTEND;TZID=UTC:20220529T170000
DTSTAMP:20260424T234753
CREATED:20210503T145740Z
LAST-MODIFIED:20210503T145740Z
UID:1103-1653724800-1653843600@josiasriverfarm.com
SUMMARY:Not Available For Booking
DESCRIPTION:
URL:https://josiasriverfarm.com/calendar/not-available-for-booking-16/
CATEGORIES:Not Available For Booking
END:VEVENT
BEGIN:VEVENT
DTSTART;VALUE=DATE:20220527
DTEND;VALUE=DATE:20220528
DTSTAMP:20260424T234753
CREATED:20220101T192252Z
LAST-MODIFIED:20220101T192252Z
UID:1171-1653609600-1653695999@josiasriverfarm.com
SUMMARY:Available for Intimate Wedding with 50 or less guests
DESCRIPTION:
URL:https://josiasriverfarm.com/calendar/available-for-intimate-wedding-with-50-or-less-guests-3/
CATEGORIES:Available for Intimate Weddings for Less Than 50 Guests
END:VEVENT
BEGIN:VEVENT
DTSTART;TZID=UTC:20220521T080000
DTEND;TZID=UTC:20220522T170000
DTSTAMP:20260424T234753
CREATED:20210503T145648Z
LAST-MODIFIED:20210503T145648Z
UID:1101-1653120000-1653238800@josiasriverfarm.com
SUMMARY:Not Available for Booking
DESCRIPTION:
URL:https://josiasriverfarm.com/calendar/not-available-for-booking-14/
CATEGORIES:Not Available For Booking
END:VEVENT
BEGIN:VEVENT
DTSTART;VALUE=DATE:20220520
DTEND;VALUE=DATE:20220521
DTSTAMP:20260424T234753
CREATED:20220101T192134Z
LAST-MODIFIED:20220101T192134Z
UID:1169-1653004800-1653091199@josiasriverfarm.com
SUMMARY:Available for Intimate Wedding with 50 or less guests
DESCRIPTION:
URL:https://josiasriverfarm.com/calendar/available-for-intimate-wedding-with-50-or-less-guests-2/
CATEGORIES:Available for Intimate Weddings for Less Than 50 Guests
END:VEVENT
BEGIN:VEVENT
DTSTART;VALUE=DATE:20211103
DTEND;VALUE=DATE:20211104
DTSTAMP:20260424T234753
CREATED:20211103T123126Z
LAST-MODIFIED:20211103T123126Z
UID:1157-1635897600-1635983999@josiasriverfarm.com
SUMMARY:Not Available for Booking
DESCRIPTION:
URL:https://josiasriverfarm.com/calendar/not-available-for-booking-20/
CATEGORIES:Not Available For Booking
END:VEVENT
BEGIN:VEVENT
DTSTART;TZID=UTC:20211015T080000
DTEND;TZID=UTC:20211017T170000
DTSTAMP:20260424T234753
CREATED:20210120T160959Z
LAST-MODIFIED:20210222T145500Z
UID:1052-1634284800-1634490000@josiasriverfarm.com
SUMMARY:Not Available
DESCRIPTION:
URL:https://josiasriverfarm.com/calendar/available-3/
CATEGORIES:Not Available For Booking
END:VEVENT
BEGIN:VEVENT
DTSTART;TZID=UTC:20211008T080000
DTEND;TZID=UTC:20211010T170000
DTSTAMP:20260424T234753
CREATED:20210120T160834Z
LAST-MODIFIED:20210222T145408Z
UID:1050-1633680000-1633885200@josiasriverfarm.com
SUMMARY:Not Available
DESCRIPTION:
URL:https://josiasriverfarm.com/calendar/available-2/
CATEGORIES:Not Available For Booking
END:VEVENT
BEGIN:VEVENT
DTSTART;TZID=UTC:20211001T080000
DTEND;TZID=UTC:20211003T170000
DTSTAMP:20260424T234753
CREATED:20200617T173401Z
LAST-MODIFIED:20210222T145304Z
UID:935-1633075200-1633280400@josiasriverfarm.com
SUMMARY:Not Available
DESCRIPTION:
URL:https://josiasriverfarm.com/calendar/available-for-smaller-wedding-with-less-than-50-guests-5/
CATEGORIES:Not Available For Booking
END:VEVENT
BEGIN:VEVENT
DTSTART;VALUE=DATE:20210926
DTEND;VALUE=DATE:20210927
DTSTAMP:20260424T234753
CREATED:20200827T203202Z
LAST-MODIFIED:20200827T203334Z
UID:981-1632614400-1632700799@josiasriverfarm.com
SUMMARY:Not Available for Booking
DESCRIPTION:
URL:https://josiasriverfarm.com/calendar/not-available-for-booking-7/
CATEGORIES:Not Available For Booking
END:VEVENT
BEGIN:VEVENT
DTSTART;TZID=UTC:20210925T080000
DTEND;TZID=UTC:20210925T170000
DTSTAMP:20260424T234753
CREATED:20200827T200139Z
LAST-MODIFIED:20200827T200139Z
UID:972-1632556800-1632589200@josiasriverfarm.com
SUMMARY:Booked Wedding
DESCRIPTION:
URL:https://josiasriverfarm.com/calendar/booked-wedding/
CATEGORIES:Booked for Wedding
END:VEVENT
BEGIN:VEVENT
DTSTART;VALUE=DATE:20210924
DTEND;VALUE=DATE:20210925
DTSTAMP:20260424T234753
CREATED:20200827T203731Z
LAST-MODIFIED:20200827T203731Z
UID:983-1632441600-1632527999@josiasriverfarm.com
SUMMARY:Not Available For Booking
DESCRIPTION:
URL:https://josiasriverfarm.com/calendar/not-available-for-booking-8/
CATEGORIES:Not Available For Booking
END:VEVENT
BEGIN:VEVENT
DTSTART;VALUE=DATE:20210917
DTEND;VALUE=DATE:20210920
DTSTAMP:20260424T234753
CREATED:20200617T172534Z
LAST-MODIFIED:20200827T195935Z
UID:929-1631836800-1632095999@josiasriverfarm.com
SUMMARY:Booked Wedding
DESCRIPTION:
URL:https://josiasriverfarm.com/calendar/available-for-smaller-wedding-with-less-than-50-guests-2/
CATEGORIES:Booked for Wedding
END:VEVENT
BEGIN:VEVENT
DTSTART;TZID=UTC:20210912T080000
DTEND;TZID=UTC:20210912T230000
DTSTAMP:20260424T234753
CREATED:20200617T170927Z
LAST-MODIFIED:20210222T143412Z
UID:921-1631433600-1631487600@josiasriverfarm.com
SUMMARY:Wedding Booked
DESCRIPTION:
URL:https://josiasriverfarm.com/calendar/available-for-smaller-wedding-with-less-than-50-guests/
CATEGORIES:Booked for Wedding
END:VEVENT
BEGIN:VEVENT
DTSTART;VALUE=DATE:20210911
DTEND;VALUE=DATE:20210912
DTSTAMP:20260424T234753
CREATED:20200827T195444Z
LAST-MODIFIED:20200827T195631Z
UID:969-1631318400-1631404799@josiasriverfarm.com
SUMMARY:Not Available For Booking
DESCRIPTION:
URL:https://josiasriverfarm.com/calendar/not-available-for-booking-5/
CATEGORIES:Not Available For Booking
END:VEVENT
BEGIN:VEVENT
DTSTART;VALUE=DATE:20210910
DTEND;VALUE=DATE:20210911
DTSTAMP:20260424T234753
CREATED:20200827T204038Z
LAST-MODIFIED:20200827T204554Z
UID:985-1631232000-1631318399@josiasriverfarm.com
SUMMARY:Not Available For Booking
DESCRIPTION:
URL:https://josiasriverfarm.com/calendar/not-available-for-booking-9/
CATEGORIES:Not Available For Booking
END:VEVENT
END:VCALENDAR