BEGIN:VCALENDAR
VERSION:2.0
PRODID:-//Josias River Farm - ECPv6.15.13//NONSGML v1.0//EN
CALSCALE:GREGORIAN
METHOD:PUBLISH
X-WR-CALNAME:Josias River Farm
X-ORIGINAL-URL:https://josiasriverfarm.com
X-WR-CALDESC:Events for Josias River Farm
REFRESH-INTERVAL;VALUE=DURATION:PT1H
X-Robots-Tag:noindex
X-PUBLISHED-TTL:PT1H
BEGIN:VTIMEZONE
TZID:UTC
BEGIN:STANDARD
TZOFFSETFROM:+0000
TZOFFSETTO:+0000
TZNAME:UTC
DTSTART:20250101T000000
END:STANDARD
END:VTIMEZONE
BEGIN:VEVENT
DTSTART;TZID=UTC:20260807T080000
DTEND;TZID=UTC:20260809T170000
DTSTAMP:20260423T211516
CREATED:20250909T104107Z
LAST-MODIFIED:20250909T104107Z
UID:1513-1786089600-1786294800@josiasriverfarm.com
SUMMARY:Booked for Wedding
DESCRIPTION:
URL:https://josiasriverfarm.com/calendar/booked-for-wedding-20/
CATEGORIES:Booked for Wedding
END:VEVENT
BEGIN:VEVENT
DTSTART;TZID=UTC:20260814T080000
DTEND;TZID=UTC:20260816T170000
DTSTAMP:20260423T211516
CREATED:20250928T165217Z
LAST-MODIFIED:20250928T165217Z
UID:1520-1786694400-1786899600@josiasriverfarm.com
SUMMARY:Wedding Booked
DESCRIPTION:
URL:https://josiasriverfarm.com/calendar/wedding-booked-65/
END:VEVENT
BEGIN:VEVENT
DTSTART;TZID=UTC:20260821T080000
DTEND;TZID=UTC:20260823T170000
DTSTAMP:20260423T211516
CREATED:20250728T182644Z
LAST-MODIFIED:20250728T182644Z
UID:1504-1787299200-1787504400@josiasriverfarm.com
SUMMARY:Wedding Booked
DESCRIPTION:
URL:https://josiasriverfarm.com/calendar/wedding-booked-64/
CATEGORIES:Booked for Wedding
END:VEVENT
BEGIN:VEVENT
DTSTART;TZID=UTC:20260828T080000
DTEND;TZID=UTC:20260830T170000
DTSTAMP:20260423T211516
CREATED:20240915T211453Z
LAST-MODIFIED:20240915T211453Z
UID:1460-1787904000-1788109200@josiasriverfarm.com
SUMMARY:Wedding Booked
DESCRIPTION:
URL:https://josiasriverfarm.com/calendar/wedding-booked-60/
CATEGORIES:Booked for Wedding
END:VEVENT
END:VCALENDAR